BEGIN:VCALENDAR
VERSION:2.0
PRODID:-//Virginia Alcoholics Anonymous - ECPv6.15.20//NONSGML v1.0//EN
CALSCALE:GREGORIAN
METHOD:PUBLISH
X-ORIGINAL-URL:https://aavirginia.org
X-WR-CALDESC:Events for Virginia Alcoholics Anonymous
REFRESH-INTERVAL;VALUE=DURATION:PT1H
X-Robots-Tag:noindex
X-PUBLISHED-TTL:PT1H
BEGIN:VTIMEZONE
TZID:America/New_York
BEGIN:DAYLIGHT
TZOFFSETFROM:-0500
TZOFFSETTO:-0400
TZNAME:EDT
DTSTART:20210314T070000
END:DAYLIGHT
BEGIN:STANDARD
TZOFFSETFROM:-0400
TZOFFSETTO:-0500
TZNAME:EST
DTSTART:20211107T060000
END:STANDARD
BEGIN:DAYLIGHT
TZOFFSETFROM:-0500
TZOFFSETTO:-0400
TZNAME:EDT
DTSTART:20220313T070000
END:DAYLIGHT
BEGIN:STANDARD
TZOFFSETFROM:-0400
TZOFFSETTO:-0500
TZNAME:EST
DTSTART:20221106T060000
END:STANDARD
BEGIN:DAYLIGHT
TZOFFSETFROM:-0500
TZOFFSETTO:-0400
TZNAME:EDT
DTSTART:20230312T070000
END:DAYLIGHT
BEGIN:STANDARD
TZOFFSETFROM:-0400
TZOFFSETTO:-0500
TZNAME:EST
DTSTART:20231105T060000
END:STANDARD
END:VTIMEZONE
BEGIN:VEVENT
DTSTART;TZID=America/New_York:20220505T183000
DTEND;TZID=America/New_York:20220505T193000
DTSTAMP:20260424T120559
CREATED:20220427T002253Z
LAST-MODIFIED:20220427T002253Z
UID:73677-1651775400-1651779000@aavirginia.org
SUMMARY:District 43 Corrections Committee Meeting
DESCRIPTION:Get involved in rewarding service opportunities! We need volunteers to assist in many aspects of the Corrections Committee\, including\, but not limited to\, visiting behind the walls. Come to the meeting and find out more!
URL:https://aavirginia.org/event/district-43-corrections-committee-meeting/
LOCATION:Ashland Presbyterian Church – meeting hall\, 401 Virginia Street\, Ashland\, VA\, 23005\, United States
END:VEVENT
BEGIN:VEVENT
DTSTART;VALUE=DATE:20220514
DTEND;VALUE=DATE:20220515
DTSTAMP:20260424T120559
CREATED:20220123T231803Z
LAST-MODIFIED:20220123T231803Z
UID:66367-1652486400-1652572799@aavirginia.org
SUMMARY:VAC Archives Office Open House
DESCRIPTION:PDF Embedder requires a url attribute
URL:https://aavirginia.org/event/vac-archives-office-open-house/
LOCATION:Virginia Area Archives Office\, 6501 Mechanicsville Tnpk\, Suite G-02\, Mechanicsville\, VA\, 23111\, United States
END:VEVENT
END:VCALENDAR