BEGIN:VCALENDAR
VERSION:2.0
PRODID:-//Virginia Alcoholics Anonymous - ECPv6.15.20//NONSGML v1.0//EN
CALSCALE:GREGORIAN
METHOD:PUBLISH
X-ORIGINAL-URL:https://aavirginia.org
X-WR-CALDESC:Events for Virginia Alcoholics Anonymous
REFRESH-INTERVAL;VALUE=DURATION:PT1H
X-Robots-Tag:noindex
X-PUBLISHED-TTL:PT1H
BEGIN:VTIMEZONE
TZID:America/New_York
BEGIN:DAYLIGHT
TZOFFSETFROM:-0500
TZOFFSETTO:-0400
TZNAME:EDT
DTSTART:20210314T070000
END:DAYLIGHT
BEGIN:STANDARD
TZOFFSETFROM:-0400
TZOFFSETTO:-0500
TZNAME:EST
DTSTART:20211107T060000
END:STANDARD
BEGIN:DAYLIGHT
TZOFFSETFROM:-0500
TZOFFSETTO:-0400
TZNAME:EDT
DTSTART:20220313T070000
END:DAYLIGHT
BEGIN:STANDARD
TZOFFSETFROM:-0400
TZOFFSETTO:-0500
TZNAME:EST
DTSTART:20221106T060000
END:STANDARD
BEGIN:DAYLIGHT
TZOFFSETFROM:-0500
TZOFFSETTO:-0400
TZNAME:EDT
DTSTART:20230312T070000
END:DAYLIGHT
BEGIN:STANDARD
TZOFFSETFROM:-0400
TZOFFSETTO:-0500
TZNAME:EST
DTSTART:20231105T060000
END:STANDARD
END:VTIMEZONE
BEGIN:VEVENT
DTSTART;TZID=America/New_York:20220625T070000
DTEND;TZID=America/New_York:20220625T093000
DTSTAMP:20260424T083310
CREATED:20220622T001733Z
LAST-MODIFIED:20220622T001733Z
UID:77403-1656140400-1656149400@aavirginia.org
SUMMARY:15th Anniversary Breakfast & Meeting Sunday Park
DESCRIPTION:Open meeting and breakfast. Breakfast and Wawa coffee provided. 8am speaker. Billy D. from District 16 will share his experience\, strength and hope. Guests and family welcome. If you are bringing a breakfast item please make sure it is fully cooked and you have serving ware. Raffle and prizes after the meeting.
URL:https://aavirginia.org/event/15th-anniversary-breakfast-meeting-sunday-park/
LOCATION:Brandermill Sunday Park Pavilion\, 4600 Millridge Pkwy\, Midlothian\, VA\, 23112\, United States
ORGANIZER;CN="Suffered Enough":MAILTO:sufferedenoughhomegroup@gmail.com
END:VEVENT
BEGIN:VEVENT
DTSTART;TZID=America/New_York:20220625T090000
DTEND;TZID=America/New_York:20220625T153000
DTSTAMP:20260424T083310
CREATED:20220403T131448Z
LAST-MODIFIED:20220403T131448Z
UID:73614-1656147600-1656171000@aavirginia.org
SUMMARY:Virginia Area Corrections Workshop
DESCRIPTION:PDF Embedder requires a url attribute
URL:https://aavirginia.org/event/virginia-area-corrections-workshop-2-2/
LOCATION:First Baptist Church\, 310 N. Jefferson Street\, Roanoke\, VA\, 24016\, United States
END:VEVENT
BEGIN:VEVENT
DTSTART;TZID=America/New_York:20220625T120000
DTEND;TZID=America/New_York:20220625T160000
DTSTAMP:20260424T083310
CREATED:20220609T142258Z
LAST-MODIFIED:20220709T115318Z
UID:77377-1656158400-1656172800@aavirginia.org
SUMMARY:Walnut Hill Group's 45th Anniversary
DESCRIPTION:45th anniversary celebration as\na group
URL:https://aavirginia.org/event/walnut-hill-groups-45th-anniversary/
LOCATION:Christ and Grace Episcopal Church Pavilion\, 1545 S. Sycamore St.\, Petersburg\, VA\, 23805\, United States
END:VEVENT
BEGIN:VEVENT
DTSTART;TZID=America/New_York:20220625T190000
DTEND;TZID=America/New_York:20220625T220000
DTSTAMP:20260424T083310
CREATED:20220204T204240Z
LAST-MODIFIED:20220204T204240Z
UID:66426-1656183600-1656194400@aavirginia.org
SUMMARY:Clover Group 75th Anniversary
DESCRIPTION:Clover Group 75th Anniversary \n7:00 pm – Fellowship & Food\n8:30 pm – Guest speaker from Greensboro NC \nClover Group will provide\n– Barbecue & buns\n– Coleslaw\n– Coffee & water\n– Carrot cake \nPlease bring a side dish\n– Veggies\n– Casseroles\n– Salads\n– Desserts
URL:https://aavirginia.org/event/clover-group-75th-anniversary/
LOCATION:The Warrenton Presbyterian Church\, 91 Main Street\, Warrenton\, VA\, 20187\, United States
END:VEVENT
END:VCALENDAR