BEGIN:VCALENDAR
VERSION:2.0
PRODID:-//Virginia Alcoholics Anonymous - ECPv6.15.20//NONSGML v1.0//EN
CALSCALE:GREGORIAN
METHOD:PUBLISH
X-ORIGINAL-URL:https://aavirginia.org
X-WR-CALDESC:Events for Virginia Alcoholics Anonymous
REFRESH-INTERVAL;VALUE=DURATION:PT1H
X-Robots-Tag:noindex
X-PUBLISHED-TTL:PT1H
BEGIN:VTIMEZONE
TZID:America/New_York
BEGIN:DAYLIGHT
TZOFFSETFROM:-0500
TZOFFSETTO:-0400
TZNAME:EDT
DTSTART:20190310T070000
END:DAYLIGHT
BEGIN:STANDARD
TZOFFSETFROM:-0400
TZOFFSETTO:-0500
TZNAME:EST
DTSTART:20191103T060000
END:STANDARD
BEGIN:DAYLIGHT
TZOFFSETFROM:-0500
TZOFFSETTO:-0400
TZNAME:EDT
DTSTART:20200308T070000
END:DAYLIGHT
BEGIN:STANDARD
TZOFFSETFROM:-0400
TZOFFSETTO:-0500
TZNAME:EST
DTSTART:20201101T060000
END:STANDARD
BEGIN:DAYLIGHT
TZOFFSETFROM:-0500
TZOFFSETTO:-0400
TZNAME:EDT
DTSTART:20210314T070000
END:DAYLIGHT
BEGIN:STANDARD
TZOFFSETFROM:-0400
TZOFFSETTO:-0500
TZNAME:EST
DTSTART:20211107T060000
END:STANDARD
END:VTIMEZONE
BEGIN:VEVENT
DTSTART;TZID=America/New_York:20200613T140000
DTEND;TZID=America/New_York:20200613T153000
DTSTAMP:20260421T115723
CREATED:20200531T140053Z
LAST-MODIFIED:20200531T140053Z
UID:51198-1592056800-1592062200@aavirginia.org
SUMMARY:Fun Day - Arlington District 2
DESCRIPTION:Virtual Fun Day! The annual summer picnic hosted by the AA groups of Arlington\, Virginia (District 2)\, will be virtual this year! Please join for the first ever\, socially distant\, online Fun Day! We encourage participants to join the video conference from the great outdoors while enjoying your favorite bar-b-que snack! \n2 to 2:30 pm – Fellowship and AA Trivia\n2:30 to 3:30 – Sobriety Countdown and Speaker Meeting with Mike M. from Brunswick\, MD \nJoin Zoom Meeting\nhttps://us02web.zoom.us/j/83439487816?pwd=ZmNXZHJDc2\nVtS1MwYWkzc042b1Fpdz09\nMeeting ID: 834 3948 7816\nPassword: FunDay2020\nOne tap mobile\n+19292056099\,\,83439487816#\,\,1#\,708560# US (New York)\n+13017158592\,\,83439487816#\,\,1#\,708560# US (Germantown)
URL:https://aavirginia.org/event/fun-day-arlington-district-2/
LOCATION:https://us02web.zoom.us/j/83439487816?pwd=ZmNXZHJDc2 VtS1MwYWkzc042b1Fpdz09\, Select a Country:
END:VEVENT
BEGIN:VEVENT
DTSTART;TZID=America/New_York:20200613T140000
DTEND;TZID=America/New_York:20200613T153000
DTSTAMP:20260421T115723
CREATED:20200531T140053Z
LAST-MODIFIED:20200531T140053Z
UID:122474-1592056800-1592062200@aavirginia.org
SUMMARY:Fun Day - Arlington District 2
DESCRIPTION:Virtual Fun Day! The annual summer picnic hosted by the AA groups of Arlington\, Virginia (District 2)\, will be virtual this year! Please join for the first ever\, socially distant\, online Fun Day! We encourage participants to join the video conference from the great outdoors while enjoying your favorite bar-b-que snack! \n2 to 2:30 pm – Fellowship and AA Trivia\n2:30 to 3:30 – Sobriety Countdown and Speaker Meeting with Mike M. from Brunswick\, MD \nJoin Zoom Meeting\nhttps://us02web.zoom.us/j/83439487816?pwd=ZmNXZHJDc2\nVtS1MwYWkzc042b1Fpdz09\nMeeting ID: 834 3948 7816\nPassword: FunDay2020\nOne tap mobile\n+19292056099\,\,83439487816#\,\,1#\,708560# US (New York)\n+13017158592\,\,83439487816#\,\,1#\,708560# US (Germantown)
URL:https://aavirginia.org/event/fun-day-arlington-district-2-2/
LOCATION:https://us02web.zoom.us/j/83439487816?pwd=ZmNXZHJDc2 VtS1MwYWkzc042b1Fpdz09\, Select a Country:
END:VEVENT
END:VCALENDAR