BEGIN:VCALENDAR
VERSION:2.0
PRODID:-//Virginia Alcoholics Anonymous - ECPv6.15.20//NONSGML v1.0//EN
CALSCALE:GREGORIAN
METHOD:PUBLISH
X-ORIGINAL-URL:https://aavirginia.org
X-WR-CALDESC:Events for Virginia Alcoholics Anonymous
REFRESH-INTERVAL;VALUE=DURATION:PT1H
X-Robots-Tag:noindex
X-PUBLISHED-TTL:PT1H
BEGIN:VTIMEZONE
TZID:America/New_York
BEGIN:DAYLIGHT
TZOFFSETFROM:-0500
TZOFFSETTO:-0400
TZNAME:EDT
DTSTART:20160313T070000
END:DAYLIGHT
BEGIN:STANDARD
TZOFFSETFROM:-0400
TZOFFSETTO:-0500
TZNAME:EST
DTSTART:20161106T060000
END:STANDARD
BEGIN:DAYLIGHT
TZOFFSETFROM:-0500
TZOFFSETTO:-0400
TZNAME:EDT
DTSTART:20170312T070000
END:DAYLIGHT
BEGIN:STANDARD
TZOFFSETFROM:-0400
TZOFFSETTO:-0500
TZNAME:EST
DTSTART:20171105T060000
END:STANDARD
BEGIN:DAYLIGHT
TZOFFSETFROM:-0500
TZOFFSETTO:-0400
TZNAME:EDT
DTSTART:20180311T070000
END:DAYLIGHT
BEGIN:STANDARD
TZOFFSETFROM:-0400
TZOFFSETTO:-0500
TZNAME:EST
DTSTART:20181104T060000
END:STANDARD
END:VTIMEZONE
BEGIN:VEVENT
DTSTART;VALUE=DATE:20171110
DTEND;VALUE=DATE:20171113
DTSTAMP:20260421T223607
CREATED:20161003T030553Z
LAST-MODIFIED:20170626T161307Z
UID:47350-1510272000-1510531199@aavirginia.org
SUMMARY:4th Southern States Alcoholics Anonymous Service Assembly (SSAASA)
DESCRIPTION:4th Southern States Alcoholics Anonymous Service Assembly (SSAASA) \n\nLocation: Atlanta\, Georgia\nRegistration:  Early Bird $25 post marked by Nov. 1\,2017 / $30 at the door.\n\n\nPlease send check or money order to: \nSSAASA 2017\nPO Box 831\nSatsuma\, AL  36572 \nhttp://www.aaarea1.org/ssaasa.html
URL:https://aavirginia.org/event/4th-ssaasa/
LOCATION:Holiday Inn & Suites\, Airport North\, 1380 Virginia Ave.\, Atlanta\, GA\, 30344\, United States
END:VEVENT
BEGIN:VEVENT
DTSTART;VALUE=DATE:20171110
DTEND;VALUE=DATE:20171113
DTSTAMP:20260421T223607
CREATED:20161003T030553Z
LAST-MODIFIED:20161003T030553Z
UID:122129-1510272000-1510531199@aavirginia.org
SUMMARY:4th Southern States Alcoholics Anonymous Service Assembly (SSAASA)
DESCRIPTION:4th Southern States Alcoholics Anonymous Service Assembly (SSAASA) \n\nLocation: Atlanta\, Georgia\nRegistration:  Early Bird $25 post marked by Nov. 1\,2017 / $30 at the door.\n\n\nPlease send check or money order to: \nSSAASA 2017\nPO Box 831\nSatsuma\, AL  36572 \nhttp://www.aaarea1.org/ssaasa.html
URL:https://aavirginia.org/event/4th-ssaasa-2/
LOCATION:Holiday Inn & Suites\, Airport North\, 1380 Virginia Ave.\, Atlanta\, GA\, 30344\, United States
END:VEVENT
BEGIN:VEVENT
DTSTART;TZID=America/New_York:20171111T090000
DTEND;TZID=America/New_York:20171111T150000
DTSTAMP:20260421T223607
CREATED:20170816T154759Z
LAST-MODIFIED:20170816T200206Z
UID:48789-1510390800-1510412400@aavirginia.org
SUMMARY:Super Saturday
DESCRIPTION:Theme: Three Legacies \nSnacks\, Lunch\, Workshops and Speakers throughout the day by Districts 18\, 29\, 37\, 43 & 44. \nBring a covered dish for morning snacks or for the BBQ lunch. \nOld timers panel during lunch. \nRichmond Intergroup Archives and VAC members will be in attendance.
URL:https://aavirginia.org/event/super-saturday/
LOCATION:Cool Spring Baptist Church\, 9283 Atlee Station Rd.\, Mechanicsville\, VA\, 23116\, United States
ORGANIZER;CN="Richmond Area":MAILTO:darin.parr@comcast.net
END:VEVENT
BEGIN:VEVENT
DTSTART;TZID=America/New_York:20171111T090000
DTEND;TZID=America/New_York:20171111T150000
DTSTAMP:20260421T223607
CREATED:20170816T154759Z
LAST-MODIFIED:20170816T154759Z
UID:122232-1510390800-1510412400@aavirginia.org
SUMMARY:Super Saturday
DESCRIPTION:Theme: Three Legacies \nSnacks\, Lunch\, Workshops and Speakers throughout the day by Districts 18\, 29\, 37\, 43 & 44. \nBring a covered dish for morning snacks or for the BBQ lunch. \nOld timers panel during lunch. \nRichmond Intergroup Archives and VAC members will be in attendance.
URL:https://aavirginia.org/event/super-saturday-2/
LOCATION:Cool Spring Baptist Church\, 9283 Atlee Station Rd.\, Mechanicsville\, VA\, 23116\, United States
ORGANIZER;CN="Richmond Area":MAILTO:darin.parr@comcast.net
END:VEVENT
BEGIN:VEVENT
DTSTART;TZID=America/New_York:20171111T110000
DTEND;TZID=America/New_York:20171111T140000
DTSTAMP:20260421T223607
CREATED:20171006T232041Z
LAST-MODIFIED:20171006T232041Z
UID:48905-1510398000-1510408800@aavirginia.org
SUMMARY:District 46 Grapevine Workshop!!!
DESCRIPTION:Grapevine Workshop. Food\, speakers and an Opportunity to Write and Submit Your Story to the Grapevine! Bring a notebook or laptop and come ready to write.
URL:https://aavirginia.org/event/district-46-grapevine-workshop/
LOCATION:Immanuel on the Hill Church\, 3606 Seminary Road\, Alexandria\, VA\, 22304\, United States
END:VEVENT
BEGIN:VEVENT
DTSTART;TZID=America/New_York:20171111T110000
DTEND;TZID=America/New_York:20171111T140000
DTSTAMP:20260421T223607
CREATED:20171006T232041Z
LAST-MODIFIED:20171006T232041Z
UID:122247-1510398000-1510408800@aavirginia.org
SUMMARY:District 46 Grapevine Workshop!!!
DESCRIPTION:Grapevine Workshop. Food\, speakers and an Opportunity to Write and Submit Your Story to the Grapevine! Bring a notebook or laptop and come ready to write.
URL:https://aavirginia.org/event/district-46-grapevine-workshop-2/
LOCATION:Immanuel on the Hill Church\, 3606 Seminary Road\, Alexandria\, VA\, 22304\, United States
END:VEVENT
BEGIN:VEVENT
DTSTART;TZID=America/New_York:20171111T183000
DTEND;TZID=America/New_York:20171111T210000
DTSTAMP:20260421T223607
CREATED:20170924T133550Z
LAST-MODIFIED:20170924T133550Z
UID:48862-1510425000-1510434000@aavirginia.org
SUMMARY:Danville's 70th AA Anniversary
DESCRIPTION:Dinner At 6:30 Ham\, Turkey and drinks provided\, please bring a coveres dish or dessert\nSpeaker from Chapel Hill\, NC at *8:00
URL:https://aavirginia.org/event/danvilles-70th-aa-anniversary/
LOCATION:Trinity UMC\, 409 Arnett Blvd\, Danville\, VA\, 24540\, United States
ORGANIZER;CN="Danville Groups":MAILTO:jimoirish@gmail.com
END:VEVENT
BEGIN:VEVENT
DTSTART;TZID=America/New_York:20171111T183000
DTEND;TZID=America/New_York:20171111T210000
DTSTAMP:20260421T223607
CREATED:20170924T133550Z
LAST-MODIFIED:20170924T133550Z
UID:122240-1510425000-1510434000@aavirginia.org
SUMMARY:Danville\'s 70th AA Anniversary
DESCRIPTION:Dinner At 6:30 Ham\, Turkey and drinks provided\, please bring a coveres dish or dessert\nSpeaker from Chapel Hill\, NC at *8:00
URL:https://aavirginia.org/event/danvilles-70th-aa-anniversary-2/
LOCATION:Trinity UMC\, 409 Arnett Blvd\, Danville\, VA\, 24540\, United States
ORGANIZER;CN="Danville Groups":MAILTO:jimoirish@gmail.com
END:VEVENT
END:VCALENDAR