BEGIN:VCALENDAR
VERSION:2.0
PRODID:-//Virginia Alcoholics Anonymous - ECPv6.15.20//NONSGML v1.0//EN
CALSCALE:GREGORIAN
METHOD:PUBLISH
X-ORIGINAL-URL:https://aavirginia.org
X-WR-CALDESC:Events for Virginia Alcoholics Anonymous
REFRESH-INTERVAL;VALUE=DURATION:PT1H
X-Robots-Tag:noindex
X-PUBLISHED-TTL:PT1H
BEGIN:VTIMEZONE
TZID:America/New_York
BEGIN:DAYLIGHT
TZOFFSETFROM:-0500
TZOFFSETTO:-0400
TZNAME:EDT
DTSTART:20240310T070000
END:DAYLIGHT
BEGIN:STANDARD
TZOFFSETFROM:-0400
TZOFFSETTO:-0500
TZNAME:EST
DTSTART:20241103T060000
END:STANDARD
BEGIN:DAYLIGHT
TZOFFSETFROM:-0500
TZOFFSETTO:-0400
TZNAME:EDT
DTSTART:20250309T070000
END:DAYLIGHT
BEGIN:STANDARD
TZOFFSETFROM:-0400
TZOFFSETTO:-0500
TZNAME:EST
DTSTART:20251102T060000
END:STANDARD
BEGIN:DAYLIGHT
TZOFFSETFROM:-0500
TZOFFSETTO:-0400
TZNAME:EDT
DTSTART:20260308T070000
END:DAYLIGHT
BEGIN:STANDARD
TZOFFSETFROM:-0400
TZOFFSETTO:-0500
TZNAME:EST
DTSTART:20261101T060000
END:STANDARD
END:VTIMEZONE
BEGIN:VEVENT
DTSTART;TZID=America/New_York:20250503T100000
DTEND;TZID=America/New_York:20250503T130000
DTSTAMP:20260425T142841
CREATED:20250104T195111Z
LAST-MODIFIED:20250405T210056Z
UID:293748-1746266400-1746277200@aavirginia.org
SUMMARY:Archives Open House
DESCRIPTION:Archives open house 2025
URL:https://aavirginia.org/event/archives-open-house/
LOCATION:Virginia Area Archives Office\, 6501 Mechanicsville Turnpike\, Suite G-02\, Mechanicsville\, VA\, 23111\, United States
END:VEVENT
BEGIN:VEVENT
DTSTART;TZID=America/New_York:20250510T083000
DTEND;TZID=America/New_York:20250510T140000
DTSTAMP:20260425T142841
CREATED:20250410T153659Z
LAST-MODIFIED:20250410T153659Z
UID:294114-1746865800-1746885600@aavirginia.org
SUMMARY:AA District 28 Workshop
DESCRIPTION:
URL:https://aavirginia.org/event/aa-district-28-workshop/
LOCATION:Bethel United Methodist Church\, 13506 Minnieville Road\, Woodbridge\, VA\, 22192\, United States
END:VEVENT
BEGIN:VEVENT
DTSTART;TZID=America/New_York:20250510T110000
DTEND;TZID=America/New_York:20250510T150000
DTSTAMP:20260425T142841
CREATED:20250413T152057Z
LAST-MODIFIED:20250413T152057Z
UID:294131-1746874800-1746889200@aavirginia.org
SUMMARY:Spring Into Sobriety Picnic
DESCRIPTION:
URL:https://aavirginia.org/event/spring-into-sobriety-picnic/
LOCATION:Winns Baptist Church Pavilion\, 12320 Winns Church Road\, Glen Allen\, VA\, 23059\, United States
END:VEVENT
BEGIN:VEVENT
DTSTART;TZID=America/New_York:20250510T110000
DTEND;TZID=America/New_York:20250510T150000
DTSTAMP:20260425T142841
CREATED:20250502T141718Z
LAST-MODIFIED:20250502T141718Z
UID:294272-1746874800-1746889200@aavirginia.org
SUMMARY:District 43 Spring into Sobriety Picnic
DESCRIPTION:
URL:https://aavirginia.org/event/district-43-spring-into-sobriety-picnic/
LOCATION:Winns Baptist Church Pavilion\, 12320 Winns Church Road\, Glen Allen\, VA\, 23059\, United States
END:VEVENT
BEGIN:VEVENT
DTSTART;TZID=America/New_York:20250510T120000
DTEND;TZID=America/New_York:20250510T160000
DTSTAMP:20260425T142841
CREATED:20250329T004720Z
LAST-MODIFIED:20250329T004728Z
UID:294062-1746878400-1746892800@aavirginia.org
SUMMARY:VSCYPAA Lunch Bunch
DESCRIPTION:
URL:https://aavirginia.org/event/vscypaa-lunch-bunch/
LOCATION:Mountain View Church\, 1077 View Point Lane\, Forest\, 24551\, United States
END:VEVENT
BEGIN:VEVENT
DTSTART;VALUE=DATE:20250512
DTEND;VALUE=DATE:20250515
DTSTAMP:20260425T142841
CREATED:20250202T014831Z
LAST-MODIFIED:20250204T234641Z
UID:293852-1747008000-1747267199@aavirginia.org
SUMMARY:3rd annual Shenandoah Women's Advance
DESCRIPTION:3rd annual Shenandoah Women’s Advance: May 16– May 16-18\, 2025. Mountain View Retreat Center\, Harrisonburg\, VA \nCost (includes room\, all meals\, snacks\, & drinks):\n$275 – Shared bedroom\, 2-3 people \n$350 – Private room (limited availability) \nSee attached registration form for more details. Email SHENANDOAHWOMEN@GMAIL.COM with questions.
URL:https://aavirginia.org/event/1st-annual-shenandoah-womens-advance/
LOCATION:Mountain Valley Retreat Center\, 3091 Ragtown Road\, Harrisonburg\, 22802\, United States
END:VEVENT
BEGIN:VEVENT
DTSTART;TZID=America/New_York:20250516T170000
DTEND;TZID=America/New_York:20250516T200000
DTSTAMP:20260425T142841
CREATED:20250401T141057Z
LAST-MODIFIED:20250401T141057Z
UID:294070-1747414800-1747425600@aavirginia.org
SUMMARY:VSCYPAA: Come & Spaghet It! (Spaghetti & Speaker)
DESCRIPTION:Screenshot
URL:https://aavirginia.org/event/vscypaa-come-spaghet-it-spaghetti-speaker/
LOCATION:Mountain View Church\, 1077 View Point Lane\, Forest\, 24551\, United States
END:VEVENT
BEGIN:VEVENT
DTSTART;TZID=America/New_York:20250516T170000
DTEND;TZID=America/New_York:20250518T120000
DTSTAMP:20260425T142841
CREATED:20250404T133852Z
LAST-MODIFIED:20250404T133852Z
UID:294080-1747414800-1747569600@aavirginia.org
SUMMARY:Sunday Serenity Group Sponsored 9th Annual Fish Fry and Campout
DESCRIPTION:9th-Annual-Fish-Fry-5th-Annual-Camp-Out-May-16th-17th-2024-No-Names
URL:https://aavirginia.org/event/sunday-serenity-group-sponsored-9th-annual-fish-fry-and-campout/
LOCATION:Westmoreland State Park\, 145 CLIFF ROAD\, MONTROSS\, VA\, 22520\, United States
END:VEVENT
BEGIN:VEVENT
DTSTART;TZID=America/New_York:20250520T190000
DTEND;TZID=America/New_York:20250520T200000
DTSTAMP:20260425T142841
CREATED:20250225T151427Z
LAST-MODIFIED:20250225T151427Z
UID:293923-1747767600-1747771200@aavirginia.org
SUMMARY:New GSR Training Presented by District 5
DESCRIPTION:New-GSR-Training-Flier-02.24.20259\nhttps://us02web.zoom.us/j/89516438739?pwd=TGU4dXlLQmx6WXNCQml6WlVEeTVXQT09
URL:https://aavirginia.org/event/new-gsr-training-presented-by-district-5-8/
END:VEVENT
BEGIN:VEVENT
DTSTART;TZID=America/New_York:20250526T103000
DTEND;TZID=America/New_York:20250526T160000
DTSTAMP:20260425T142841
CREATED:20250501T133741Z
LAST-MODIFIED:20250501T133741Z
UID:294269-1748255400-1748275200@aavirginia.org
SUMMARY:Memorial Day Picnic -Culpeper\, VA
DESCRIPTION:Memorial-Day-Invite-2025
URL:https://aavirginia.org/event/memorial-day-picnic-culpeper-va/
LOCATION:Mountain Run Lake Pavilion 3\, 16339 J.B. Carpenter Dr\, Culpeper\, Virginia\, 22701
END:VEVENT
BEGIN:VEVENT
DTSTART;TZID=America/New_York:20250531T120000
DTEND;TZID=America/New_York:20250531T170000
DTSTAMP:20260425T142841
CREATED:20250429T182120Z
LAST-MODIFIED:20250508T135516Z
UID:294258-1748692800-1748710800@aavirginia.org
SUMMARY:AA Fellowship Day
DESCRIPTION:Danville Fellowship Day
URL:https://aavirginia.org/event/aa-fellowship-day/
LOCATION:Ballou Park\, Shelter 10\, 760 W. Main Street\, Danville\, VA\, 24541\, United States
END:VEVENT
BEGIN:VEVENT
DTSTART;TZID=America/New_York:20250531T150000
DTEND;TZID=America/New_York:20250531T160000
DTSTAMP:20260425T142841
CREATED:20250419T163201Z
LAST-MODIFIED:20250419T163201Z
UID:294174-1748703600-1748707200@aavirginia.org
SUMMARY:Back to Basics
DESCRIPTION:
URL:https://aavirginia.org/event/back-to-basics/
LOCATION:Wesley United Methodist Church Hopewell\, VA\, 2901 Norfolk St\, Hopewell\, United States
END:VEVENT
END:VCALENDAR