BEGIN:VCALENDAR
VERSION:2.0
PRODID:-//Virginia Alcoholics Anonymous - ECPv6.15.20//NONSGML v1.0//EN
CALSCALE:GREGORIAN
METHOD:PUBLISH
X-WR-CALNAME:Virginia Alcoholics Anonymous
X-ORIGINAL-URL:https://aavirginia.org
X-WR-CALDESC:Events for Virginia Alcoholics Anonymous
REFRESH-INTERVAL;VALUE=DURATION:PT1H
X-Robots-Tag:noindex
X-PUBLISHED-TTL:PT1H
BEGIN:VTIMEZONE
TZID:America/New_York
BEGIN:DAYLIGHT
TZOFFSETFROM:-0500
TZOFFSETTO:-0400
TZNAME:EDT
DTSTART:20180311T070000
END:DAYLIGHT
BEGIN:STANDARD
TZOFFSETFROM:-0400
TZOFFSETTO:-0500
TZNAME:EST
DTSTART:20181104T060000
END:STANDARD
BEGIN:DAYLIGHT
TZOFFSETFROM:-0500
TZOFFSETTO:-0400
TZNAME:EDT
DTSTART:20190310T070000
END:DAYLIGHT
BEGIN:STANDARD
TZOFFSETFROM:-0400
TZOFFSETTO:-0500
TZNAME:EST
DTSTART:20191103T060000
END:STANDARD
BEGIN:DAYLIGHT
TZOFFSETFROM:-0500
TZOFFSETTO:-0400
TZNAME:EDT
DTSTART:20200308T070000
END:DAYLIGHT
BEGIN:STANDARD
TZOFFSETFROM:-0400
TZOFFSETTO:-0500
TZNAME:EST
DTSTART:20201101T060000
END:STANDARD
END:VTIMEZONE
BEGIN:VEVENT
DTSTART;TZID=America/New_York:20190209T080000
DTEND;TZID=America/New_York:20190209T110000
DTSTAMP:20260422T195601
CREATED:20181121T042955Z
LAST-MODIFIED:20181121T042955Z
UID:49893-1549699200-1549710000@aavirginia.org
SUMMARY:14th Annual Fairfax District Pancake Breakfast
DESCRIPTION:Pancake Breakfast Meeting with 50/50 Raffle\, Sobriety Countdown and Speaker
URL:https://aavirginia.org/event/14th-annual-fairfax-district-pancake-breakfast/
LOCATION:Fairfax Presbyterian Church\, 10723 Main Street\, Fairfax\, VA\, 22030\, United States
ORGANIZER;CN="Fairfax District":MAILTO:charles_armstead@msn.com
END:VEVENT
BEGIN:VEVENT
DTSTART;TZID=America/New_York:20190209T080000
DTEND;TZID=America/New_York:20190209T110000
DTSTAMP:20260422T195601
CREATED:20181121T042955Z
LAST-MODIFIED:20181121T042955Z
UID:122348-1549699200-1549710000@aavirginia.org
SUMMARY:14th Annual Fairfax District Pancake Breakfast
DESCRIPTION:Pancake Breakfast Meeting with 50/50 Raffle\, Sobriety Countdown and Speaker
URL:https://aavirginia.org/event/14th-annual-fairfax-district-pancake-breakfast-2/
LOCATION:Fairfax Presbyterian Church\, 10723 Main Street\, Fairfax\, VA\, 22030\, United States
ORGANIZER;CN="Fairfax District":MAILTO:charles_armstead@msn.com
END:VEVENT
BEGIN:VEVENT
DTSTART;TZID=America/New_York:20190209T180000
DTEND;TZID=America/New_York:20190209T220000
DTSTAMP:20260422T195601
CREATED:20181219T030115Z
LAST-MODIFIED:20181219T030115Z
UID:50057-1549735200-1549749600@aavirginia.org
SUMMARY:Valentine’s Dinner\, Speaker\, and Dance
DESCRIPTION:Vscypaa 2019 is hosting a Valentines Dinner\, Speaker\, and Dance! We will have a spaghetti dinner included with ticket cost. We will have a speaker who will share on Bill W’s language of the heart\, followed by a dance!\nAll are welcome. Tickets are limited so if you would like to purchase tickets\, email our events chair to buy yours!
URL:https://aavirginia.org/event/valentines-dinner-speaker-and-dance/
LOCATION:Dorothy Hart Community Center\, Canal Street\, Fredericksburg \, VA\, 22401\, United States
ORGANIZER;CN="Vscypaa 2019":MAILTO:events@vscypaa2019.com
END:VEVENT
BEGIN:VEVENT
DTSTART;TZID=America/New_York:20190209T180000
DTEND;TZID=America/New_York:20190209T220000
DTSTAMP:20260422T195601
CREATED:20181219T030115Z
LAST-MODIFIED:20181219T030115Z
UID:122355-1549735200-1549749600@aavirginia.org
SUMMARY:Valentine’s Dinner\, Speaker\, and Dance
DESCRIPTION:Vscypaa 2019 is hosting a Valentines Dinner\, Speaker\, and Dance! We will have a spaghetti dinner included with ticket cost. We will have a speaker who will share on Bill W’s language of the heart\, followed by a dance!\nAll are welcome. Tickets are limited so if you would like to purchase tickets\, email our events chair to buy yours!
URL:https://aavirginia.org/event/valentines-dinner-speaker-and-dance-2/
LOCATION:Dorothy Hart Community Center\, Canal Street\, Fredericksburg \, VA\, 22401\, United States
ORGANIZER;CN="Vscypaa 2019":MAILTO:events@vscypaa2019.com
END:VEVENT
BEGIN:VEVENT
DTSTART;VALUE=DATE:20190215
DTEND;VALUE=DATE:20190218
DTSTAMP:20260422T195601
CREATED:20190123T214812Z
LAST-MODIFIED:20190123T214812Z
UID:50161-1550188800-1550447999@aavirginia.org
SUMMARY:43rd Annual Oceanfront Conference
DESCRIPTION:Speaker meetings\, workshop\, ice cream social\, dancing\, and on-site buffet meals on the Atlantic Ocean.
URL:https://aavirginia.org/event/43rd-annual-oceanfront-conference/
LOCATION:The Wyndham Hotel\, 5700 Atlantic Avenue\, Virginia Beach\, VA\, 23451\, United States
ORGANIZER;CN="District 32 Ocean Front":MAILTO:arrangements@aavirginia.org
END:VEVENT
BEGIN:VEVENT
DTSTART;VALUE=DATE:20190215
DTEND;VALUE=DATE:20190218
DTSTAMP:20260422T195601
CREATED:20190123T214812Z
LAST-MODIFIED:20190123T214812Z
UID:122361-1550188800-1550447999@aavirginia.org
SUMMARY:43rd Annual Oceanfront Conference
DESCRIPTION:Speaker meetings\, workshop\, ice cream social\, dancing\, and on-site buffet meals on the Atlantic Ocean.
URL:https://aavirginia.org/event/43rd-annual-oceanfront-conference-2/
LOCATION:The Wyndham Hotel\, 5700 Atlantic Avenue\, Virginia Beach\, VA\, 23451\, United States
ORGANIZER;CN="District 32 Ocean Front":MAILTO:arrangements@aavirginia.org
END:VEVENT
BEGIN:VEVENT
DTSTART;TZID=America/New_York:20190223T180000
DTEND;TZID=America/New_York:20190223T203000
DTSTAMP:20260422T195601
CREATED:20190218T022504Z
LAST-MODIFIED:20190218T022504Z
UID:50212-1550944800-1550953800@aavirginia.org
SUMMARY:6th Annual Chili Cookoff
DESCRIPTION:Food\, fellowship\, and fun. If your entering cookoff please arrive by 5:45pm. Dessert judging contest as well.
URL:https://aavirginia.org/event/6th-annual-chili-cookoff/
LOCATION:Bethel Lutheran Church Discipleship Hall\, 2077 N. Frederick Pike\, Winchester\, VA\, 22603\, Select a Country:
ORGANIZER;CN="Happy Hour Group":MAILTO:klzydelis@gmail.com
END:VEVENT
BEGIN:VEVENT
DTSTART;TZID=America/New_York:20190223T180000
DTEND;TZID=America/New_York:20190223T203000
DTSTAMP:20260422T195601
CREATED:20190218T022504Z
LAST-MODIFIED:20190218T022504Z
UID:122363-1550944800-1550953800@aavirginia.org
SUMMARY:6th Annual Chili Cookoff
DESCRIPTION:Food\, fellowship\, and fun. If your entering cookoff please arrive by 5:45pm. Dessert judging contest as well.
URL:https://aavirginia.org/event/6th-annual-chili-cookoff-2/
LOCATION:Bethel Lutheran Church Discipleship Hall\, 2077 N. Frederick Pike\, Winchester\, VA\, 22603\, Select a Country:
ORGANIZER;CN="Happy Hour Group":MAILTO:klzydelis@gmail.com
END:VEVENT
END:VCALENDAR