BEGIN:VCALENDAR
VERSION:2.0
PRODID:-//Virginia Alcoholics Anonymous - ECPv6.15.20//NONSGML v1.0//EN
CALSCALE:GREGORIAN
METHOD:PUBLISH
X-WR-CALNAME:Virginia Alcoholics Anonymous
X-ORIGINAL-URL:https://aavirginia.org
X-WR-CALDESC:Events for Virginia Alcoholics Anonymous
REFRESH-INTERVAL;VALUE=DURATION:PT1H
X-Robots-Tag:noindex
X-PUBLISHED-TTL:PT1H
BEGIN:VTIMEZONE
TZID:America/New_York
BEGIN:DAYLIGHT
TZOFFSETFROM:-0500
TZOFFSETTO:-0400
TZNAME:EDT
DTSTART:20240310T070000
END:DAYLIGHT
BEGIN:STANDARD
TZOFFSETFROM:-0400
TZOFFSETTO:-0500
TZNAME:EST
DTSTART:20241103T060000
END:STANDARD
BEGIN:DAYLIGHT
TZOFFSETFROM:-0500
TZOFFSETTO:-0400
TZNAME:EDT
DTSTART:20250309T070000
END:DAYLIGHT
BEGIN:STANDARD
TZOFFSETFROM:-0400
TZOFFSETTO:-0500
TZNAME:EST
DTSTART:20251102T060000
END:STANDARD
BEGIN:DAYLIGHT
TZOFFSETFROM:-0500
TZOFFSETTO:-0400
TZNAME:EDT
DTSTART:20260308T070000
END:DAYLIGHT
BEGIN:STANDARD
TZOFFSETFROM:-0400
TZOFFSETTO:-0500
TZNAME:EST
DTSTART:20261101T060000
END:STANDARD
END:VTIMEZONE
BEGIN:VEVENT
DTSTART;TZID=America/New_York:20251018T120000
DTEND;TZID=America/New_York:20251018T170000
DTSTAMP:20260423T084123
CREATED:20250917T140248Z
LAST-MODIFIED:20250917T140248Z
UID:294863-1760788800-1760806800@aavirginia.org
SUMMARY:District 40 Skyline Annual Picnic
DESCRIPTION:District-40-Picnic-Final-x2
URL:https://aavirginia.org/event/district-40-skyline-annual-picnic/
LOCATION:Eagles Club shelter\, 499 Stover Ave. \, Strasburg\, VA\, 22657\, United States
ORGANIZER;CN="Skyline District 40":MAILTO:flunnie@gmail.com
END:VEVENT
BEGIN:VEVENT
DTSTART;TZID=America/New_York:20251018T123000
DTEND;TZID=America/New_York:20251018T143000
DTSTAMP:20260423T084123
CREATED:20250830T141047Z
LAST-MODIFIED:20250830T141047Z
UID:294634-1760790600-1760797800@aavirginia.org
SUMMARY:District 8 Homegroup Workshop
DESCRIPTION:
URL:https://aavirginia.org/event/district-8-homegroup-workshop/
LOCATION:Emmanuel Episcopal Church Hampton VA\, 179 E Mercury Blvd\, Hampton\, 23669\, United States
END:VEVENT
BEGIN:VEVENT
DTSTART;TZID=America/New_York:20251018T140000
DTEND;TZID=America/New_York:20251018T170000
DTSTAMP:20260423T084123
CREATED:20251007T131048Z
LAST-MODIFIED:20251007T131048Z
UID:295301-1760796000-1760806800@aavirginia.org
SUMMARY:Cornhole Tournament & Speaker Meeting - Hosted by FXBG Bid 4 VSCYPAA
DESCRIPTION:
URL:https://aavirginia.org/event/cornhole-tournament-speaker-meeting-hosted-by-fxbg-bid-4-vscypaa/
LOCATION:Old Mill Park\, 2201 Caroline St\, Fredericksburg\, VA\, 22401\, United States
ORGANIZER;CN="FXBG Bid 4 VSCYPAA":MAILTO:FXBGBid4VSCYPAA26@gmail.com
END:VEVENT
END:VCALENDAR