BEGIN:VCALENDAR
VERSION:2.0
PRODID:-//Virginia Alcoholics Anonymous - ECPv6.15.20//NONSGML v1.0//EN
CALSCALE:GREGORIAN
METHOD:PUBLISH
X-WR-CALNAME:Virginia Alcoholics Anonymous
X-ORIGINAL-URL:https://aavirginia.org
X-WR-CALDESC:Events for Virginia Alcoholics Anonymous
REFRESH-INTERVAL;VALUE=DURATION:PT1H
X-Robots-Tag:noindex
X-PUBLISHED-TTL:PT1H
BEGIN:VTIMEZONE
TZID:America/New_York
BEGIN:DAYLIGHT
TZOFFSETFROM:-0500
TZOFFSETTO:-0400
TZNAME:EDT
DTSTART:20240310T070000
END:DAYLIGHT
BEGIN:STANDARD
TZOFFSETFROM:-0400
TZOFFSETTO:-0500
TZNAME:EST
DTSTART:20241103T060000
END:STANDARD
BEGIN:DAYLIGHT
TZOFFSETFROM:-0500
TZOFFSETTO:-0400
TZNAME:EDT
DTSTART:20250309T070000
END:DAYLIGHT
BEGIN:STANDARD
TZOFFSETFROM:-0400
TZOFFSETTO:-0500
TZNAME:EST
DTSTART:20251102T060000
END:STANDARD
BEGIN:DAYLIGHT
TZOFFSETFROM:-0500
TZOFFSETTO:-0400
TZNAME:EDT
DTSTART:20260308T070000
END:DAYLIGHT
BEGIN:STANDARD
TZOFFSETFROM:-0400
TZOFFSETTO:-0500
TZNAME:EST
DTSTART:20261101T060000
END:STANDARD
END:VTIMEZONE
BEGIN:VEVENT
DTSTART;TZID=America/New_York:20250731T140000
DTEND;TZID=America/New_York:20250803T120000
DTSTAMP:20260422T210956
CREATED:20250303T142159Z
LAST-MODIFIED:20250314T013458Z
UID:293948-1753970400-1754222400@aavirginia.org
SUMMARY:25th Annual Shenandoah Valley Campout
DESCRIPTION:valleycamp25FLYER
URL:https://aavirginia.org/event/25th-annual-shenandoah-valley-campout-2/
LOCATION:Natural Chimneys Park\, 94 Natural Chimneys Lane\, Mt Solon\, VA\, 22843\, United States
END:VEVENT
BEGIN:VEVENT
DTSTART;TZID=America/New_York:20250801T170000
DTEND;TZID=America/New_York:20250803T150000
DTSTAMP:20260422T210956
CREATED:20250404T134629Z
LAST-MODIFIED:20250404T134629Z
UID:294083-1754067600-1754233200@aavirginia.org
SUMMARY:Roanoke Women's Workshop - Registration Now Open!
DESCRIPTION:Roanoke-Womens-Workshop-2025-Flyer
URL:https://aavirginia.org/event/roanoke-womens-workshop-registration-now-open/
LOCATION:W.E. Skelton 4-H Conference Cetner\, 773 Hermitage Rd\, Wirtz\, VA\, 24184\, United States
END:VEVENT
END:VCALENDAR