BEGIN:VCALENDAR
VERSION:2.0
PRODID:-//Virginia Alcoholics Anonymous - ECPv6.15.20//NONSGML v1.0//EN
CALSCALE:GREGORIAN
METHOD:PUBLISH
X-ORIGINAL-URL:https://aavirginia.org
X-WR-CALDESC:Events for Virginia Alcoholics Anonymous
REFRESH-INTERVAL;VALUE=DURATION:PT1H
X-Robots-Tag:noindex
X-PUBLISHED-TTL:PT1H
BEGIN:VTIMEZONE
TZID:America/New_York
BEGIN:DAYLIGHT
TZOFFSETFROM:-0500
TZOFFSETTO:-0400
TZNAME:EDT
DTSTART:20240310T070000
END:DAYLIGHT
BEGIN:STANDARD
TZOFFSETFROM:-0400
TZOFFSETTO:-0500
TZNAME:EST
DTSTART:20241103T060000
END:STANDARD
BEGIN:DAYLIGHT
TZOFFSETFROM:-0500
TZOFFSETTO:-0400
TZNAME:EDT
DTSTART:20250309T070000
END:DAYLIGHT
BEGIN:STANDARD
TZOFFSETFROM:-0400
TZOFFSETTO:-0500
TZNAME:EST
DTSTART:20251102T060000
END:STANDARD
BEGIN:DAYLIGHT
TZOFFSETFROM:-0500
TZOFFSETTO:-0400
TZNAME:EDT
DTSTART:20260308T070000
END:DAYLIGHT
BEGIN:STANDARD
TZOFFSETFROM:-0400
TZOFFSETTO:-0500
TZNAME:EST
DTSTART:20261101T060000
END:STANDARD
END:VTIMEZONE
BEGIN:VEVENT
DTSTART;TZID=America/New_York:20250603T120000
DTEND;TZID=America/New_York:20250606T120000
DTSTAMP:20260423T110249
CREATED:20250329T004045Z
LAST-MODIFIED:20250329T144157Z
UID:294060-1748952000-1749211200@aavirginia.org
SUMMARY:SOBER SUMMER ESCAPE TO CHARLOTTE - JULY 3-6\, 2025
DESCRIPTION:Hello Friend\, \n\nNot A Glum Lot Inc is excited to invite you to join us at the Roundup in the lovely city of Charlotte\, NC\, as we celebrate Alcoholics Anonymous’s 90th Anniversary together! \n\nThroughout this amazing four-day weekend\, you can look forward to a fantastic speaker each night\, a wide range of motivational workshops\, peaceful morning meditation sessions\, a mouthwatering BBQ buffet\, and some exciting and unique raffle prizes! Don’t miss the fun skit and the red\, white\, and blue DJ dance. Plus\, be sure to check out Saturday’s “Oldtimers’ Ask It Basket Panel” for those who have 30 or more years of sobriety. \n\nWhile this joyous occasion is primarily for AA members\, we’ll also have the pleasure of welcoming Al-Anon participation with two wonderful speakers and three engaging workshops. \n\nWe’ve worked hard to make the Roundup registration process as smooth as possible for you. If you encounter any bumps while registering\, please don’t hesitate to reach out—your feedback helps us understand what works best. This is your Roundup\, and we’re committed to making it a fantastic experience from start to finish! \n\nTake a moment to explore our Sober Summer Escape Guide\, lovingly developed by Monique. Then\, go ahead and register! And remember to order the savory BBQ Buffet on Friday night\, and enjoy Saturday night’s ice cream social—these are treats you won’t want to miss! \n\nhttps://heyzine.com/flip-book/59c23b47c9.html \n\nWe can’t wait to warmly welcome you to Charlotte\, North Carolina\, the “Queen City.” Please register at your earliest convenience; your participation will help us make this a truly grand celebration. Please let me know if there’s anything we can do to assist you. \n\nNot A Glum Lot Inc is a 501(c)(3) organization\, and we would greatly appreciate any donation you might choose to make. \n\nThanks for registering. See you at the Roundup! \n\nNot A Glum Lot Roundup Planning Committee
URL:https://aavirginia.org/event/sober-summer-escape-to-charlotte-july-3-6-2025/
LOCATION:Hilton Charlotte University Place\, 8629 KEYNES DRIVE\, Charlotte\, NC\, 28208\, United States
END:VEVENT
END:VCALENDAR