BEGIN:VCALENDAR
VERSION:2.0
PRODID:-//Virginia Alcoholics Anonymous - ECPv6.15.20//NONSGML v1.0//EN
CALSCALE:GREGORIAN
METHOD:PUBLISH
X-WR-CALNAME:Virginia Alcoholics Anonymous
X-ORIGINAL-URL:https://aavirginia.org
X-WR-CALDESC:Events for Virginia Alcoholics Anonymous
REFRESH-INTERVAL;VALUE=DURATION:PT1H
X-Robots-Tag:noindex
X-PUBLISHED-TTL:PT1H
BEGIN:VTIMEZONE
TZID:America/New_York
BEGIN:DAYLIGHT
TZOFFSETFROM:-0500
TZOFFSETTO:-0400
TZNAME:EDT
DTSTART:20240310T070000
END:DAYLIGHT
BEGIN:STANDARD
TZOFFSETFROM:-0400
TZOFFSETTO:-0500
TZNAME:EST
DTSTART:20241103T060000
END:STANDARD
BEGIN:DAYLIGHT
TZOFFSETFROM:-0500
TZOFFSETTO:-0400
TZNAME:EDT
DTSTART:20250309T070000
END:DAYLIGHT
BEGIN:STANDARD
TZOFFSETFROM:-0400
TZOFFSETTO:-0500
TZNAME:EST
DTSTART:20251102T060000
END:STANDARD
BEGIN:DAYLIGHT
TZOFFSETFROM:-0500
TZOFFSETTO:-0400
TZNAME:EDT
DTSTART:20260308T070000
END:DAYLIGHT
BEGIN:STANDARD
TZOFFSETFROM:-0400
TZOFFSETTO:-0500
TZNAME:EST
DTSTART:20261101T060000
END:STANDARD
END:VTIMEZONE
BEGIN:VEVENT
DTSTART;TZID=America/New_York:20250222T143000
DTEND;TZID=America/New_York:20250222T160000
DTSTAMP:20260424T094143
CREATED:20250219T022611Z
LAST-MODIFIED:20250219T022611Z
UID:293892-1740234600-1740240000@aavirginia.org
SUMMARY:12 Traditions Play and Workshop hosted by District 22
DESCRIPTION:12 Traditions Play and Workshop hosted by District 22. February 22\, 2:30pm until approximately 4:00pm. It is at The Club\, 120 Waterman Drive\, Harrisonburg\, VA 22802. \n12 Traditions Play Workshop
URL:https://aavirginia.org/event/12-traditions-play-and-workshop-hosted-by-district-22/
LOCATION:The Club\, 120 Waterman Drive\, Harrisonburg\, 22802\, United States
END:VEVENT
BEGIN:VEVENT
DTSTART;TZID=America/New_York:20250222T160000
DTEND;TZID=America/New_York:20250222T180000
DTSTAMP:20260424T094143
CREATED:20250111T174850Z
LAST-MODIFIED:20250111T174850Z
UID:293792-1740240000-1740247200@aavirginia.org
SUMMARY:DISTRICT 35 33rd Anniversary Dinner & Speaker
DESCRIPTION:
URL:https://aavirginia.org/event/district-35-33rd-anniversary-dinner-speaker/
LOCATION:The Warrenton Community Center\, 430 East Shirley Ave.\, Warrenton\, VA\, 20187\, United States
END:VEVENT
END:VCALENDAR