BEGIN:VCALENDAR
VERSION:2.0
PRODID:-//Virginia Alcoholics Anonymous - ECPv6.15.20//NONSGML v1.0//EN
CALSCALE:GREGORIAN
METHOD:PUBLISH
X-ORIGINAL-URL:https://aavirginia.org
X-WR-CALDESC:Events for Virginia Alcoholics Anonymous
REFRESH-INTERVAL;VALUE=DURATION:PT1H
X-Robots-Tag:noindex
X-PUBLISHED-TTL:PT1H
BEGIN:VTIMEZONE
TZID:America/New_York
BEGIN:DAYLIGHT
TZOFFSETFROM:-0500
TZOFFSETTO:-0400
TZNAME:EDT
DTSTART:20210314T070000
END:DAYLIGHT
BEGIN:STANDARD
TZOFFSETFROM:-0400
TZOFFSETTO:-0500
TZNAME:EST
DTSTART:20211107T060000
END:STANDARD
BEGIN:DAYLIGHT
TZOFFSETFROM:-0500
TZOFFSETTO:-0400
TZNAME:EDT
DTSTART:20220313T070000
END:DAYLIGHT
BEGIN:STANDARD
TZOFFSETFROM:-0400
TZOFFSETTO:-0500
TZNAME:EST
DTSTART:20221106T060000
END:STANDARD
BEGIN:DAYLIGHT
TZOFFSETFROM:-0500
TZOFFSETTO:-0400
TZNAME:EDT
DTSTART:20230312T070000
END:DAYLIGHT
BEGIN:STANDARD
TZOFFSETFROM:-0400
TZOFFSETTO:-0500
TZNAME:EST
DTSTART:20231105T060000
END:STANDARD
END:VTIMEZONE
BEGIN:VEVENT
DTSTART;TZID=America/New_York:20221025T080000
DTEND;TZID=America/New_York:20221225T170000
DTSTAMP:20260425T142714
CREATED:20221025T144921Z
LAST-MODIFIED:20221025T144921Z
UID:131878-1666684800-1671987600@aavirginia.org
SUMMARY:People's Video Project
DESCRIPTION:Young_People_Project_2022_Poster_EN
URL:https://aavirginia.org/event/peoples-video-project/
END:VEVENT
BEGIN:VEVENT
DTSTART;VALUE=DATE:20221202
DTEND;VALUE=DATE:20221205
DTSTAMP:20260425T142714
CREATED:20220530T025550Z
LAST-MODIFIED:20221003T012820Z
UID:77343-1669939200-1670198399@aavirginia.org
SUMMARY:SE Regional Forum
DESCRIPTION:RF_2022_Southeast_Flyer_EN
URL:https://aavirginia.org/event/se-regional-forum/
LOCATION:Hilton New Orleans Airport\, 901 AIRLINE DR\, KENNER\, LA\, 70062\, United States
END:VEVENT
BEGIN:VEVENT
DTSTART;TZID=America/New_York:20221203T100000
DTEND;TZID=America/New_York:20221203T110000
DTSTAMP:20260425T142714
CREATED:20221130T172303Z
LAST-MODIFIED:20221130T172303Z
UID:134309-1670061600-1670065200@aavirginia.org
SUMMARY:Charlottesville's Corrections Meeting
DESCRIPTION:Corrections Meeting Flyer (1)
URL:https://aavirginia.org/event/charlottesvilles-corrections-meeting/
LOCATION:1803 Emmet ST. N. Suite 3\, 1803 Emmet ST. N. Suite 3\, Charlottesville\, VA\, 22901\, United States
END:VEVENT
BEGIN:VEVENT
DTSTART;TZID=America/New_York:20221203T180000
DTEND;TZID=America/New_York:20221203T220000
DTSTAMP:20260425T142714
CREATED:20221010T153444Z
LAST-MODIFIED:20221010T153518Z
UID:131142-1670090400-1670104800@aavirginia.org
SUMMARY:District 10 Winter Dance
DESCRIPTION:AA District 10 Winter Dance Flyer - 2022
URL:https://aavirginia.org/event/district-10-winter-dance-3/
LOCATION:58 Sycolin Rd SE\, Leesburg\, VA\, 58 Sycolin Rd SE\, Leesburg\, VA\, 20175\, United States
END:VEVENT
END:VCALENDAR