BEGIN:VCALENDAR
VERSION:2.0
PRODID:-//Virginia Alcoholics Anonymous - ECPv6.15.20//NONSGML v1.0//EN
CALSCALE:GREGORIAN
METHOD:PUBLISH
X-ORIGINAL-URL:https://aavirginia.org
X-WR-CALDESC:Events for Virginia Alcoholics Anonymous
REFRESH-INTERVAL;VALUE=DURATION:PT1H
X-Robots-Tag:noindex
X-PUBLISHED-TTL:PT1H
BEGIN:VTIMEZONE
TZID:America/New_York
BEGIN:DAYLIGHT
TZOFFSETFROM:-0500
TZOFFSETTO:-0400
TZNAME:EDT
DTSTART:20200308T070000
END:DAYLIGHT
BEGIN:STANDARD
TZOFFSETFROM:-0400
TZOFFSETTO:-0500
TZNAME:EST
DTSTART:20201101T060000
END:STANDARD
BEGIN:DAYLIGHT
TZOFFSETFROM:-0500
TZOFFSETTO:-0400
TZNAME:EDT
DTSTART:20210314T070000
END:DAYLIGHT
BEGIN:STANDARD
TZOFFSETFROM:-0400
TZOFFSETTO:-0500
TZNAME:EST
DTSTART:20211107T060000
END:STANDARD
BEGIN:DAYLIGHT
TZOFFSETFROM:-0500
TZOFFSETTO:-0400
TZNAME:EDT
DTSTART:20220313T070000
END:DAYLIGHT
BEGIN:STANDARD
TZOFFSETFROM:-0400
TZOFFSETTO:-0500
TZNAME:EST
DTSTART:20221106T060000
END:STANDARD
END:VTIMEZONE
BEGIN:VEVENT
DTSTART;TZID=America/New_York:20210805T120000
DTEND;TZID=America/New_York:20210808T120000
DTSTAMP:20260421T193444
CREATED:20210324T014134Z
LAST-MODIFIED:20210324T014134Z
UID:51795-1628164800-1628424000@aavirginia.org
SUMMARY:Shenandoah Valley Campout
DESCRIPTION:Four days of fellowship in a beautiful park setting\, with cookout\, dance\, meditation\, speaker and campfire meetings! Event is free\, with campsites are available for a fee through Augusta County Parks: (540)245-5727.
URL:https://aavirginia.org/event/shenandoah-valley-campout-2/
LOCATION:Natural Chimneys Regional Park\, 94 Natural Chimneys Ln\, Mt. Solon\, VA\, 22843\, United States
ORGANIZER;CN="Staunton Group of AA":MAILTO:valleycampout@yahoo.com
END:VEVENT
BEGIN:VEVENT
DTSTART;TZID=America/New_York:20210805T120000
DTEND;TZID=America/New_York:20210808T120000
DTSTAMP:20260421T193444
CREATED:20210324T014134Z
LAST-MODIFIED:20210324T014134Z
UID:122524-1628164800-1628424000@aavirginia.org
SUMMARY:Shenandoah Valley Campout
DESCRIPTION:Four days of fellowship in a beautiful park setting\, with cookout\, dance\, meditation\, speaker and campfire meetings! Event is free\, with campsites are available for a fee through Augusta County Parks: (540)245-5727.
URL:https://aavirginia.org/event/shenandoah-valley-campout-2-2/
LOCATION:Natural Chimneys Regional Park\, 94 Natural Chimneys Ln\, Mt. Solon\, VA\, 22843\, United States
ORGANIZER;CN="Staunton Group of AA":MAILTO:valleycampout@yahoo.com
END:VEVENT
END:VCALENDAR