BEGIN:VCALENDAR
VERSION:2.0
PRODID:-//Virginia Alcoholics Anonymous - ECPv6.15.20//NONSGML v1.0//EN
CALSCALE:GREGORIAN
METHOD:PUBLISH
X-ORIGINAL-URL:https://aavirginia.org
X-WR-CALDESC:Events for Virginia Alcoholics Anonymous
REFRESH-INTERVAL;VALUE=DURATION:PT1H
X-Robots-Tag:noindex
X-PUBLISHED-TTL:PT1H
BEGIN:VTIMEZONE
TZID:America/New_York
BEGIN:DAYLIGHT
TZOFFSETFROM:-0500
TZOFFSETTO:-0400
TZNAME:EDT
DTSTART:20180311T070000
END:DAYLIGHT
BEGIN:STANDARD
TZOFFSETFROM:-0400
TZOFFSETTO:-0500
TZNAME:EST
DTSTART:20181104T060000
END:STANDARD
BEGIN:DAYLIGHT
TZOFFSETFROM:-0500
TZOFFSETTO:-0400
TZNAME:EDT
DTSTART:20190310T070000
END:DAYLIGHT
BEGIN:STANDARD
TZOFFSETFROM:-0400
TZOFFSETTO:-0500
TZNAME:EST
DTSTART:20191103T060000
END:STANDARD
BEGIN:DAYLIGHT
TZOFFSETFROM:-0500
TZOFFSETTO:-0400
TZNAME:EDT
DTSTART:20200308T070000
END:DAYLIGHT
BEGIN:STANDARD
TZOFFSETFROM:-0400
TZOFFSETTO:-0500
TZNAME:EST
DTSTART:20201101T060000
END:STANDARD
END:VTIMEZONE
BEGIN:VEVENT
DTSTART;TZID=America/New_York:20190316T093000
DTEND;TZID=America/New_York:20190316T113000
DTSTAMP:20260422T211041
CREATED:20190225T232544Z
LAST-MODIFIED:20190225T232544Z
UID:50239-1552728600-1552735800@aavirginia.org
SUMMARY:8th Annual Gratitude Breakfast
DESCRIPTION:Advance tickets $10\, $12 at the door (tip included)\nChildren under 9 $5
URL:https://aavirginia.org/event/8th-annual-gratitude-breakfast/
LOCATION:Mary’s Diner\, 1201 Piney Forest Road\, DANVILLE\, VA\, 24540\, United States
END:VEVENT
BEGIN:VEVENT
DTSTART;TZID=America/New_York:20190316T093000
DTEND;TZID=America/New_York:20190316T113000
DTSTAMP:20260422T211041
CREATED:20190225T232544Z
LAST-MODIFIED:20190225T232544Z
UID:122366-1552728600-1552735800@aavirginia.org
SUMMARY:8th Annual Gratitude Breakfast
DESCRIPTION:Advance tickets $10\, $12 at the door (tip included)\nChildren under 9 $5
URL:https://aavirginia.org/event/8th-annual-gratitude-breakfast-2/
LOCATION:Mary’s Diner\, 1201 Piney Forest Road\, DANVILLE\, VA\, 24540\, United States
END:VEVENT
END:VCALENDAR