BEGIN:VCALENDAR
VERSION:2.0
PRODID:-//Virginia Alcoholics Anonymous - ECPv6.15.20//NONSGML v1.0//EN
CALSCALE:GREGORIAN
METHOD:PUBLISH
X-ORIGINAL-URL:https://aavirginia.org
X-WR-CALDESC:Events for Virginia Alcoholics Anonymous
REFRESH-INTERVAL;VALUE=DURATION:PT1H
X-Robots-Tag:noindex
X-PUBLISHED-TTL:PT1H
BEGIN:VTIMEZONE
TZID:America/New_York
BEGIN:DAYLIGHT
TZOFFSETFROM:-0500
TZOFFSETTO:-0400
TZNAME:EDT
DTSTART:20160313T070000
END:DAYLIGHT
BEGIN:STANDARD
TZOFFSETFROM:-0400
TZOFFSETTO:-0500
TZNAME:EST
DTSTART:20161106T060000
END:STANDARD
BEGIN:DAYLIGHT
TZOFFSETFROM:-0500
TZOFFSETTO:-0400
TZNAME:EDT
DTSTART:20170312T070000
END:DAYLIGHT
BEGIN:STANDARD
TZOFFSETFROM:-0400
TZOFFSETTO:-0500
TZNAME:EST
DTSTART:20171105T060000
END:STANDARD
BEGIN:DAYLIGHT
TZOFFSETFROM:-0500
TZOFFSETTO:-0400
TZNAME:EDT
DTSTART:20180311T070000
END:DAYLIGHT
BEGIN:STANDARD
TZOFFSETFROM:-0400
TZOFFSETTO:-0500
TZNAME:EST
DTSTART:20181104T060000
END:STANDARD
END:VTIMEZONE
BEGIN:VEVENT
DTSTART;TZID=America/New_York:20170829T190000
DTEND;TZID=America/New_York:20170829T203000
DTSTAMP:20260421T093517
CREATED:20170809T204937Z
LAST-MODIFIED:20170809T204944Z
UID:48749-1504033200-1504038600@aavirginia.org
SUMMARY:Traditions workshop
DESCRIPTION:Traditions workshop Snack and desserts. There will be 50-50 raffle.
URL:https://aavirginia.org/event/traditions-workshop/
LOCATION:Olive branch\, St Georges Episcopal\, 15446 warwick blvd\, Newport news\, VA\, 23608\, United States
ORGANIZER;CN="Olive Branch Group":MAILTO:Tomholloway73@gmail.com
END:VEVENT
BEGIN:VEVENT
DTSTART;TZID=America/New_York:20170829T190000
DTEND;TZID=America/New_York:20170829T203000
DTSTAMP:20260421T093517
CREATED:20170809T204937Z
LAST-MODIFIED:20170809T204937Z
UID:122230-1504033200-1504038600@aavirginia.org
SUMMARY:Traditions workshop
DESCRIPTION:Traditions workshop Snack and desserts. There will be 50-50 raffle.
URL:https://aavirginia.org/event/traditions-workshop-2/
LOCATION:Olive branch\, St Georges Episcopal\, 15446 warwick blvd\, Newport news\, VA\, 23608\, United States
ORGANIZER;CN="Olive Branch Group":MAILTO:Tomholloway73@gmail.com
END:VEVENT
END:VCALENDAR